Package: ExperimentHub Version: 3.0.0 Command: /home/biocbuild/bbs-3.22-bioc/R/bin/R CMD INSTALL ExperimentHub StartedAt: 2025-11-02 15:36:25 -0500 (Sun, 02 Nov 2025) EndedAt: 2025-11-02 15:36:44 -0500 (Sun, 02 Nov 2025) EllapsedTime: 19.2 seconds RetCode: 0 Status: OK