Package: ExperimentHub Version: 3.0.0 Command: /home/biocbuild/bbs-3.22-bioc/R/bin/R CMD build --keep-empty-dirs --no-resave-data --md5 ExperimentHub StartedAt: 2025-11-03 17:37:46 -0500 (Mon, 03 Nov 2025) EndedAt: 2025-11-03 17:38:16 -0500 (Mon, 03 Nov 2025) EllapsedTime: 30.0 seconds RetCode: 0 Status: OK PackageFile: ExperimentHub_3.0.0.tar.gz PackageFileSize: 491.3 KiB