Package: ExiMiR Version: 2.51.0 Command: /home/biocbuild/bbs-3.22-bioc/R/bin/R CMD build --keep-empty-dirs --no-resave-data --md5 ExiMiR StartedAt: 2025-10-24 17:45:16 -0400 (Fri, 24 Oct 2025) EndedAt: 2025-10-24 17:46:24 -0400 (Fri, 24 Oct 2025) EllapsedTime: 68.1 seconds RetCode: 0 Status: OK PackageFile: ExiMiR_2.51.0.tar.gz PackageFileSize: 1.508 MiB