Package: ExiMiR Version: 2.51.0 Command: /Library/Frameworks/R.framework/Resources/bin/R CMD build --keep-empty-dirs --no-resave-data ExiMiR StartedAt: 2025-10-24 16:25:00 -0400 (Fri, 24 Oct 2025) EndedAt: 2025-10-24 16:25:25 -0400 (Fri, 24 Oct 2025) EllapsedTime: 25.3 seconds RetCode: 0 Status: OK PackageFile: ExiMiR_2.51.0.tar.gz PackageFileSize: 1.507 MiB