Package: ExCluster Version: 1.27.0 Command: /Library/Frameworks/R.framework/Resources/bin/R CMD INSTALL ExCluster StartedAt: 2025-10-27 15:26:59 -0400 (Mon, 27 Oct 2025) EndedAt: 2025-10-27 15:27:40 -0400 (Mon, 27 Oct 2025) EllapsedTime: 41.2 seconds RetCode: 0 Status: OK