Package: ExCluster Version: 1.27.0 Command: /Library/Frameworks/R.framework/Resources/bin/R CMD build --keep-empty-dirs --no-resave-data ExCluster StartedAt: 2025-10-27 16:54:21 -0400 (Mon, 27 Oct 2025) EndedAt: 2025-10-27 16:55:11 -0400 (Mon, 27 Oct 2025) EllapsedTime: 50.2 seconds RetCode: 0 Status: OK PackageFile: ExCluster_1.27.0.tar.gz PackageFileSize: 404.5 KiB