Package: ExCluster Version: 1.27.0 Command: rm -rf ExCluster.buildbin-libdir && mkdir ExCluster.buildbin-libdir && /Users/biocbuild/BBS/utils/build-universal.sh ExCluster_1.27.0.tar.gz /Library/Frameworks/R.framework/Resources/bin/R ExCluster.buildbin-libdir StartedAt: 2025-10-25 01:39:41 -0400 (Sat, 25 Oct 2025) EndedAt: 2025-10-25 01:40:23 -0400 (Sat, 25 Oct 2025) EllapsedTime: 41.7 seconds RetCode: 0 Status: OK PackageFile: ExCluster_1.27.0.tgz PackageFileSize: 485.4 KiB