Package: EventPointer Version: 3.18.0 Command: /home/biocbuild/R/R/bin/R CMD INSTALL EventPointer StartedAt: 2025-11-13 22:10:58 -0000 (Thu, 13 Nov 2025) EndedAt: 2025-11-13 22:12:08 -0000 (Thu, 13 Nov 2025) EllapsedTime: 70.2 seconds RetCode: 0 Status: OK