Package: EventPointer Version: 3.18.0 Command: /home/biocbuild/R/R/bin/R CMD build --keep-empty-dirs --no-resave-data EventPointer StartedAt: 2025-11-14 01:43:38 -0000 (Fri, 14 Nov 2025) EndedAt: 2025-11-14 01:45:20 -0000 (Fri, 14 Nov 2025) EllapsedTime: 102.0 seconds RetCode: 0 Status: OK PackageFile: EventPointer_3.18.0.tar.gz PackageFileSize: 1.666 MiB