Package: EventPointer Version: 3.17.0 Command: /Library/Frameworks/R.framework/Resources/bin/R CMD INSTALL EventPointer StartedAt: 2025-10-24 15:58:56 -0400 (Fri, 24 Oct 2025) EndedAt: 2025-10-24 16:00:02 -0400 (Fri, 24 Oct 2025) EllapsedTime: 65.8 seconds RetCode: 0 Status: OK