Package: EventPointer Version: 3.17.0 Command: /Library/Frameworks/R.framework/Resources/bin/R CMD INSTALL EventPointer StartedAt: 2025-10-24 15:35:02 -0400 (Fri, 24 Oct 2025) EndedAt: 2025-10-24 15:35:22 -0400 (Fri, 24 Oct 2025) EllapsedTime: 20.5 seconds RetCode: 0 Status: OK