Package: EpipwR Version: 1.3.2 Command: /home/biocbuild/bbs-3.22-bioc/R/bin/R CMD build --keep-empty-dirs --no-resave-data --md5 EpipwR StartedAt: 2025-10-27 17:32:42 -0400 (Mon, 27 Oct 2025) EndedAt: 2025-10-27 17:33:01 -0400 (Mon, 27 Oct 2025) EllapsedTime: 19.0 seconds RetCode: 0 Status: OK PackageFile: EpipwR_1.3.2.tar.gz PackageFileSize: 127.3 KiB