Package: EpipwR Version: 1.4.0 Command: /Library/Frameworks/R.framework/Resources/bin/R CMD INSTALL EpipwR StartedAt: 2025-11-03 15:09:10 -0500 (Mon, 03 Nov 2025) EndedAt: 2025-11-03 15:09:18 -0500 (Mon, 03 Nov 2025) EllapsedTime: 8.6 seconds RetCode: 0 Status: OK