Package: EpipwR Version: 1.4.0 Command: /Library/Frameworks/R.framework/Resources/bin/R CMD build --keep-empty-dirs --no-resave-data EpipwR StartedAt: 2025-10-31 16:23:58 -0400 (Fri, 31 Oct 2025) EndedAt: 2025-10-31 16:24:07 -0400 (Fri, 31 Oct 2025) EllapsedTime: 9.1 seconds RetCode: 0 Status: OK PackageFile: EpipwR_1.4.0.tar.gz PackageFileSize: 126.6 KiB