Package: EpipwR Version: 1.4.0 Command: rm -rf EpipwR.buildbin-libdir && mkdir EpipwR.buildbin-libdir && /Users/biocbuild/BBS/utils/build-universal.sh EpipwR_1.4.0.tar.gz /Library/Frameworks/R.framework/Resources/bin/R EpipwR.buildbin-libdir StartedAt: 2025-10-31 23:06:17 -0400 (Fri, 31 Oct 2025) EndedAt: 2025-10-31 23:06:24 -0400 (Fri, 31 Oct 2025) EllapsedTime: 7.1 seconds RetCode: 0 Status: OK PackageFile: EpipwR_1.4.0.tgz PackageFileSize: 128.8 KiB