Package: EpiMix Version: 1.11.1 Command: /home/biocbuild/bbs-3.22-bioc/R/bin/R CMD INSTALL EpiMix StartedAt: 2025-10-24 15:50:12 -0400 (Fri, 24 Oct 2025) EndedAt: 2025-10-24 15:50:55 -0400 (Fri, 24 Oct 2025) EllapsedTime: 42.5 seconds RetCode: 0 Status: OK