Package: EpiDISH Version: 2.25.0 Command: /home/biocbuild/bbs-3.22-bioc/R/bin/R CMD INSTALL EpiDISH StartedAt: 2025-10-24 15:15:56 -0400 (Fri, 24 Oct 2025) EndedAt: 2025-10-24 15:16:03 -0400 (Fri, 24 Oct 2025) EllapsedTime: 7.2 seconds RetCode: 0 Status: OK