Package: EpiDISH Version: 2.25.0 Command: /home/biocbuild/bbs-3.22-bioc/R/bin/R CMD build --keep-empty-dirs --no-resave-data --md5 EpiDISH StartedAt: 2025-10-24 17:40:25 -0400 (Fri, 24 Oct 2025) EndedAt: 2025-10-24 17:40:40 -0400 (Fri, 24 Oct 2025) EllapsedTime: 15.0 seconds RetCode: 0 Status: OK PackageFile: EpiDISH_2.25.0.tar.gz PackageFileSize: 3.117 MiB