Package: EpiCompare Version: 1.13.2 Command: /home/biocbuild/bbs-3.22-bioc/R/bin/R CMD INSTALL EpiCompare StartedAt: 2025-10-27 16:02:33 -0400 (Mon, 27 Oct 2025) EndedAt: 2025-10-27 16:03:23 -0400 (Mon, 27 Oct 2025) EllapsedTime: 49.8 seconds RetCode: 0 Status: OK