Package: EpiCompare Version: 1.13.2 Command: /home/biocbuild/bbs-3.22-bioc/R/bin/R CMD build --keep-empty-dirs --no-resave-data --md5 EpiCompare StartedAt: 2025-10-27 17:31:47 -0400 (Mon, 27 Oct 2025) EndedAt: 2025-10-27 17:33:03 -0400 (Mon, 27 Oct 2025) EllapsedTime: 76.1 seconds RetCode: 0 Status: OK PackageFile: EpiCompare_1.13.2.tar.gz PackageFileSize: 1.881 MiB