Package: EnrichmentBrowser Version: 2.39.2 Command: /Library/Frameworks/R.framework/Resources/bin/R CMD INSTALL EnrichmentBrowser StartedAt: 2025-10-26 15:31:33 -0400 (Sun, 26 Oct 2025) EndedAt: 2025-10-26 15:31:46 -0400 (Sun, 26 Oct 2025) EllapsedTime: 13.5 seconds RetCode: 0 Status: OK