Package: EnrichmentBrowser Version: 2.39.2 Command: /Library/Frameworks/R.framework/Resources/bin/R CMD build --keep-empty-dirs --no-resave-data EnrichmentBrowser StartedAt: 2025-10-26 16:22:20 -0400 (Sun, 26 Oct 2025) EndedAt: 2025-10-26 16:23:07 -0400 (Sun, 26 Oct 2025) EllapsedTime: 46.5 seconds RetCode: 1 Status: ERROR PackageFile: None PackageFileSize: NA