Package: EnrichmentBrowser Version: 2.40.0 Maintainer: Ludwig Geistlinger MaintainerEmail: ludwig.geistlinger at gmail.com git_url: https://git.bioconductor.org/packages/EnrichmentBrowser git_branch: RELEASE_3_22 git_last_commit: 2118f0c git_last_commit_date: 2025-10-29 10:21:30 -0500 (Wed, 29 Oct 2025)