Package: EnrichedHeatmap Version: 1.40.0 Command: /Library/Frameworks/R.framework/Resources/bin/R CMD INSTALL EnrichedHeatmap StartedAt: 2025-11-03 15:21:48 -0500 (Mon, 03 Nov 2025) EndedAt: 2025-11-03 15:22:17 -0500 (Mon, 03 Nov 2025) EllapsedTime: 29.0 seconds RetCode: 0 Status: OK