Package: EnrichedHeatmap Version: 1.40.0 Command: /Library/Frameworks/R.framework/Resources/bin/R CMD build --keep-empty-dirs --no-resave-data EnrichedHeatmap StartedAt: 2025-11-03 16:55:41 -0500 (Mon, 03 Nov 2025) EndedAt: 2025-11-03 17:02:26 -0500 (Mon, 03 Nov 2025) EllapsedTime: 405.3 seconds RetCode: 0 Status: OK PackageFile: EnrichedHeatmap_1.40.0.tar.gz PackageFileSize: 13.14 MiB