Package: EnrichedHeatmap Version: 1.39.1 Command: /Library/Frameworks/R.framework/Resources/bin/R CMD INSTALL EnrichedHeatmap StartedAt: 2025-10-24 15:13:10 -0400 (Fri, 24 Oct 2025) EndedAt: 2025-10-24 15:13:16 -0400 (Fri, 24 Oct 2025) EllapsedTime: 6.8 seconds RetCode: 0 Status: OK