Package: EnrichedHeatmap Version: 1.39.1 Command: /Library/Frameworks/R.framework/Resources/bin/R CMD build --keep-empty-dirs --no-resave-data EnrichedHeatmap StartedAt: 2025-10-24 16:21:26 -0400 (Fri, 24 Oct 2025) EndedAt: 2025-10-24 16:23:40 -0400 (Fri, 24 Oct 2025) EllapsedTime: 134.4 seconds RetCode: 0 Status: OK PackageFile: EnrichedHeatmap_1.39.1.tar.gz PackageFileSize: 13.14 MiB