Package: EnrichDO Version: 1.3.1 Command: /home/biocbuild/bbs-3.22-bioc/R/bin/R CMD build --keep-empty-dirs --no-resave-data --md5 EnrichDO StartedAt: 2025-10-24 17:39:17 -0400 (Fri, 24 Oct 2025) EndedAt: 2025-10-24 17:40:25 -0400 (Fri, 24 Oct 2025) EllapsedTime: 67.2 seconds RetCode: 0 Status: OK PackageFile: EnrichDO_1.3.1.tar.gz PackageFileSize: 2.509 MiB