Package: EnrichDO Version: 1.4.0 Command: /Library/Frameworks/R.framework/Resources/bin/R CMD INSTALL EnrichDO StartedAt: 2025-11-10 15:10:22 -0500 (Mon, 10 Nov 2025) EndedAt: 2025-11-10 15:10:27 -0500 (Mon, 10 Nov 2025) EllapsedTime: 5.0 seconds RetCode: 0 Status: OK