Package: EnrichDO Version: 1.4.0 Command: /Library/Frameworks/R.framework/Resources/bin/R CMD build --keep-empty-dirs --no-resave-data EnrichDO StartedAt: 2025-11-10 16:19:03 -0500 (Mon, 10 Nov 2025) EndedAt: 2025-11-10 16:19:34 -0500 (Mon, 10 Nov 2025) EllapsedTime: 31.4 seconds RetCode: 0 Status: OK PackageFile: EnrichDO_1.4.0.tar.gz PackageFileSize: 2.554 MiB