Package: EnrichDO Version: 1.4.0 Command: rm -rf EnrichDO.buildbin-libdir && mkdir EnrichDO.buildbin-libdir && /Users/biocbuild/BBS/utils/build-universal.sh EnrichDO_1.4.0.tar.gz /Library/Frameworks/R.framework/Resources/bin/R EnrichDO.buildbin-libdir StartedAt: 2025-11-10 23:19:05 -0500 (Mon, 10 Nov 2025) EndedAt: 2025-11-10 23:19:11 -0500 (Mon, 10 Nov 2025) EllapsedTime: 6.1 seconds RetCode: 0 Status: OK PackageFile: EnrichDO_1.4.0.tgz PackageFileSize: 3.501 MiB