Package: EnhancedVolcano Version: 1.27.0 Command: /home/biocbuild/bbs-3.22-bioc/R/bin/R CMD INSTALL EnhancedVolcano StartedAt: 2025-10-27 15:09:52 -0400 (Mon, 27 Oct 2025) EndedAt: 2025-10-27 15:10:02 -0400 (Mon, 27 Oct 2025) EllapsedTime: 9.5 seconds RetCode: 0 Status: OK