Package: EnhancedVolcano Version: 1.27.0 Command: /home/biocbuild/bbs-3.22-bioc/R/bin/R CMD build --keep-empty-dirs --no-resave-data --md5 EnhancedVolcano StartedAt: 2025-10-27 17:29:54 -0400 (Mon, 27 Oct 2025) EndedAt: 2025-10-27 17:31:33 -0400 (Mon, 27 Oct 2025) EllapsedTime: 99.1 seconds RetCode: 0 Status: OK PackageFile: EnhancedVolcano_1.27.0.tar.gz PackageFileSize: 9.412 MiB