Package: EnhancedVolcano Version: 1.28.0 Command: /Library/Frameworks/R.framework/Resources/bin/R CMD INSTALL EnhancedVolcano StartedAt: 2025-10-31 15:08:04 -0400 (Fri, 31 Oct 2025) EndedAt: 2025-10-31 15:08:09 -0400 (Fri, 31 Oct 2025) EllapsedTime: 4.7 seconds RetCode: 0 Status: OK