Package: EnhancedVolcano Version: 1.28.0 Command: rm -rf EnhancedVolcano.buildbin-libdir && mkdir EnhancedVolcano.buildbin-libdir && /Users/biocbuild/BBS/utils/build-universal.sh EnhancedVolcano_1.28.0.tar.gz /Library/Frameworks/R.framework/Resources/bin/R EnhancedVolcano.buildbin-libdir StartedAt: 2025-10-31 23:05:57 -0400 (Fri, 31 Oct 2025) EndedAt: 2025-10-31 23:06:01 -0400 (Fri, 31 Oct 2025) EllapsedTime: 4.1 seconds RetCode: 0 Status: OK PackageFile: EnhancedVolcano_1.28.0.tgz PackageFileSize: 5.915 MiB