Package: EnMCB Version: 1.21.0 Command: /home/biocbuild/bbs-3.22-bioc/R/bin/R CMD INSTALL EnMCB StartedAt: 2025-10-24 15:19:58 -0400 (Fri, 24 Oct 2025) EndedAt: 2025-10-24 15:20:14 -0400 (Fri, 24 Oct 2025) EllapsedTime: 16.1 seconds RetCode: 0 Status: OK