Package: EnMCB Version: 1.21.0 Command: /home/biocbuild/bbs-3.22-bioc/R/bin/R CMD build --keep-empty-dirs --no-resave-data --md5 EnMCB StartedAt: 2025-10-24 17:38:36 -0400 (Fri, 24 Oct 2025) EndedAt: 2025-10-24 17:39:17 -0400 (Fri, 24 Oct 2025) EllapsedTime: 41.0 seconds RetCode: 0 Status: OK PackageFile: EnMCB_1.21.0.tar.gz PackageFileSize: 4.93 MiB