Package: EnMCB Version: 1.22.0 Command: /Library/Frameworks/R.framework/Resources/bin/R CMD INSTALL EnMCB StartedAt: 2025-11-02 15:05:21 -0500 (Sun, 02 Nov 2025) EndedAt: 2025-11-02 15:05:32 -0500 (Sun, 02 Nov 2025) EllapsedTime: 11.0 seconds RetCode: 0 Status: OK