Package: EnMCB Version: 1.22.0 Command: /Library/Frameworks/R.framework/Resources/bin/R CMD build --keep-empty-dirs --no-resave-data EnMCB StartedAt: 2025-11-02 16:18:39 -0500 (Sun, 02 Nov 2025) EndedAt: 2025-11-02 16:19:01 -0500 (Sun, 02 Nov 2025) EllapsedTime: 22.2 seconds RetCode: 0 Status: OK PackageFile: EnMCB_1.22.0.tar.gz PackageFileSize: 4.929 MiB