Package: EmpiricalBrownsMethod Version: 1.38.0 Command: /Library/Frameworks/R.framework/Resources/bin/R CMD INSTALL EmpiricalBrownsMethod StartedAt: 2025-10-31 15:13:54 -0400 (Fri, 31 Oct 2025) EndedAt: 2025-10-31 15:14:08 -0400 (Fri, 31 Oct 2025) EllapsedTime: 14.4 seconds RetCode: 0 Status: OK