Package: EmpiricalBrownsMethod Version: 1.38.0 Command: rm -rf EmpiricalBrownsMethod.buildbin-libdir && mkdir EmpiricalBrownsMethod.buildbin-libdir && /Users/biocbuild/BBS/utils/build-universal.sh EmpiricalBrownsMethod_1.38.0.tar.gz /Library/Frameworks/R.framework/Resources/bin/R EmpiricalBrownsMethod.buildbin-libdir StartedAt: 2025-11-01 01:32:58 -0400 (Sat, 01 Nov 2025) EndedAt: 2025-11-01 01:33:02 -0400 (Sat, 01 Nov 2025) EllapsedTime: 4.5 seconds RetCode: 0 Status: OK PackageFile: EmpiricalBrownsMethod_1.38.0.tgz PackageFileSize: 51.33 KiB