Package: EmpiricalBrownsMethod Version: 1.37.0 Command: /Library/Frameworks/R.framework/Resources/bin/R CMD INSTALL EmpiricalBrownsMethod StartedAt: 2025-10-24 15:03:56 -0400 (Fri, 24 Oct 2025) EndedAt: 2025-10-24 15:04:00 -0400 (Fri, 24 Oct 2025) EllapsedTime: 3.2 seconds RetCode: 0 Status: OK