Package: EmpiricalBrownsMethod Version: 1.38.0 Maintainer: David Gibbs MaintainerEmail: dgibbs at systemsbiology.org git_url: https://git.bioconductor.org/packages/EmpiricalBrownsMethod git_branch: RELEASE_3_22 git_last_commit: 5287738 git_last_commit_date: 2025-10-29 10:29:29 -0400 (Wed, 29 Oct 2025)