Package: EWCE Version: 1.17.1 Command: /home/biocbuild/bbs-3.22-bioc/R/bin/R CMD INSTALL EWCE StartedAt: 2025-10-27 15:39:10 -0400 (Mon, 27 Oct 2025) EndedAt: 2025-10-27 15:39:47 -0400 (Mon, 27 Oct 2025) EllapsedTime: 36.6 seconds RetCode: 0 Status: OK