Package: EWCE Version: 1.17.1 Command: /home/biocbuild/bbs-3.22-bioc/R/bin/R CMD build --keep-empty-dirs --no-resave-data --md5 EWCE StartedAt: 2025-10-24 17:45:04 -0400 (Fri, 24 Oct 2025) EndedAt: 2025-10-24 17:49:13 -0400 (Fri, 24 Oct 2025) EllapsedTime: 249.2 seconds RetCode: 0 Status: OK PackageFile: EWCE_1.17.1.tar.gz PackageFileSize: 2.715 MiB