Package: ELViS Version: 1.1.12 Command: /home/biocbuild/bbs-3.22-bioc/R/bin/R CMD INSTALL ELViS StartedAt: 2025-10-24 15:51:49 -0400 (Fri, 24 Oct 2025) EndedAt: 2025-10-24 15:52:33 -0400 (Fri, 24 Oct 2025) EllapsedTime: 43.9 seconds RetCode: 0 Status: OK