Package: ELMER Version: 2.34.0 Command: /home/biocbuild/bbs-3.22-bioc/R/bin/R CMD INSTALL ELMER StartedAt: 2025-11-17 18:02:52 -0500 (Mon, 17 Nov 2025) EndedAt: 2025-11-17 18:03:53 -0500 (Mon, 17 Nov 2025) EllapsedTime: 60.8 seconds RetCode: 0 Status: OK