Package: EDIRquery Version: 1.9.0 Command: /home/biocbuild/bbs-3.22-bioc/R/bin/R CMD INSTALL EDIRquery StartedAt: 2025-10-24 15:35:40 -0400 (Fri, 24 Oct 2025) EndedAt: 2025-10-24 15:36:04 -0400 (Fri, 24 Oct 2025) EllapsedTime: 24.4 seconds RetCode: 0 Status: OK