Package: EDIRquery Version: 1.9.0 Command: /home/biocbuild/bbs-3.22-bioc/R/bin/R CMD build --keep-empty-dirs --no-resave-data --md5 EDIRquery StartedAt: 2025-10-24 17:37:29 -0400 (Fri, 24 Oct 2025) EndedAt: 2025-10-24 17:38:07 -0400 (Fri, 24 Oct 2025) EllapsedTime: 38.0 seconds RetCode: 0 Status: OK PackageFile: EDIRquery_1.9.0.tar.gz PackageFileSize: 1.377 MiB