Package: EDIRquery Version: 1.9.0 Command: /Library/Frameworks/R.framework/Resources/bin/R CMD INSTALL EDIRquery StartedAt: 2025-10-24 15:32:43 -0400 (Fri, 24 Oct 2025) EndedAt: 2025-10-24 15:33:17 -0400 (Fri, 24 Oct 2025) EllapsedTime: 33.9 seconds RetCode: 0 Status: OK